BEGIN:VCALENDAR
VERSION:2.0
PRODID:-//Change Institute - ECPv6.15.19//NONSGML v1.0//EN
CALSCALE:GREGORIAN
METHOD:PUBLISH
X-ORIGINAL-URL:https://changeinstitute.se
X-WR-CALDESC:Händelser för Change Institute
REFRESH-INTERVAL;VALUE=DURATION:PT1H
X-Robots-Tag:noindex
X-PUBLISHED-TTL:PT1H
BEGIN:VTIMEZONE
TZID:Europe/Stockholm
BEGIN:DAYLIGHT
TZOFFSETFROM:+0100
TZOFFSETTO:+0200
TZNAME:CEST
DTSTART:20250330T010000
END:DAYLIGHT
BEGIN:STANDARD
TZOFFSETFROM:+0200
TZOFFSETTO:+0100
TZNAME:CET
DTSTART:20251026T010000
END:STANDARD
BEGIN:DAYLIGHT
TZOFFSETFROM:+0100
TZOFFSETTO:+0200
TZNAME:CEST
DTSTART:20260329T010000
END:DAYLIGHT
BEGIN:STANDARD
TZOFFSETFROM:+0200
TZOFFSETTO:+0100
TZNAME:CET
DTSTART:20261025T010000
END:STANDARD
BEGIN:DAYLIGHT
TZOFFSETFROM:+0100
TZOFFSETTO:+0200
TZNAME:CEST
DTSTART:20270328T010000
END:DAYLIGHT
BEGIN:STANDARD
TZOFFSETFROM:+0200
TZOFFSETTO:+0100
TZNAME:CET
DTSTART:20271031T010000
END:STANDARD
END:VTIMEZONE
BEGIN:VEVENT
DTSTART;TZID=Europe/Stockholm:20260320T120000
DTEND;TZID=Europe/Stockholm:20260320T123000
DTSTAMP:20260419T232841
CREATED:20260302T154200Z
LAST-MODIFIED:20260304T143520Z
UID:10000003-1774008000-1774009800@changeinstitute.se
SUMMARY:Välkommen till ett kostnadsfritt webbinarium om CApIL®
DESCRIPTION:Välkommen till ett kostnadsfritt webbinarium om CApIL® – en praktisk utbildning för dig som vill leda innovation i vardagen. Vi går igenom upplägget i tre moduler\, verktygen ni arbetar med och kopplingen till ISO 56001/56002 samt certifiering via My360.global. Passar chefer\, ledare och nyckelroller. Om du är nyfiken – anmäl dig och se om CApIL® är rätt nästa steg. \nLäs mer och anmäl dig här: 
URL:https://changeinstitute.se/event/valkommen-till-ett-kostnadsfritt-webbinarium-om-capil/
CATEGORIES:Webbinarium
ATTACH;FMTTYPE=image/jpeg:https://changeinstitute.se/wp-content/uploads/2026/03/CI-CAPIL-webinar-920x230px.jpg
END:VEVENT
END:VCALENDAR